View In:
ArcGIS JavaScript
ArcGIS Online Map Viewer
ArcGIS Earth
ArcMap
View Footprint In:
ArcGIS Online Map Viewer
Service Description: Data on grain size analyses of surface sediments of North Sea was compiled from various sources and mapped for the mud content (fraction <63 &mu) using Kriging technique. The mud content was used as a covariate to determine habitat substrate type and is further related sediment permeability, TOC and contaminant loadings.
Name: NOAH/MudContent
Description: Data on grain size analyses of surface sediments of North Sea was compiled from various sources and mapped for the mud content (fraction <63 &mu) using Kriging technique. The mud content was used as a covariate to determine habitat substrate type and is further related sediment permeability, TOC and contaminant loadings.
Single Fused Map Cache: false
Extent:
XMin: -2.9368999999999996
YMin: 50.91999999999978
XMax: 8.643100000000011
YMax: 56.67999999999979
Spatial Reference: 4326
(4326)
Initial Extent:
XMin: -2.9368999999999996
YMin: 50.91999999999978
XMax: 8.643100000000011
YMax: 56.67999999999979
Spatial Reference: 4326
(4326)
Full Extent:
XMin: -2.9368999999999996
YMin: 50.91999999999978
XMax: 8.643100000000011
YMax: 56.67999999999979
Spatial Reference: 4326
(4326)
Pixel Size X: 0.06000000000000005
Pixel Size Y: 0.06000000000000005
Band Count: 1
Pixel Type: F32
RasterFunction Infos: {"rasterFunctionInfos": [
{
"name": "MudnOssi_Classified",
"description": "A raster function template.",
"help": ""
},
{
"name": "None",
"description": "",
"help": ""
}
]}
Mensuration Capabilities: Basic
Has Histograms: true
Has Colormap: false
Has Multi Dimensions : false
Rendering Rule:
Min Scale: 0
Max Scale: 0
Copyright Text: HZG Helmholtz-Zentrum Geesthacht
Service Data Type: esriImageServiceDataTypeGeneric
Min Values: -0.0019000000320374966
Max Values: 57.92890167236328
Mean Values: 4.011664249326131
Standard Deviation Values: 5.115778294392113
Object ID Field:
Fields:
None
Default Mosaic Method: Center
Allowed Mosaic Methods:
SortField:
SortValue: null
Mosaic Operator: First
Default Compression Quality: 75
Default Resampling Method: Nearest
Max Record Count: null
Max Image Height: 4100
Max Image Width: 15000
Max Download Image Count: null
Max Mosaic Image Count: null
Allow Raster Function: true
Allow Compute TiePoints: false
Supports Statistics: false
Supports Advanced Queries: false
Use StandardizedQueries: true
Raster Type Infos:
Name: Raster Dataset
Description: Supports all ArcGIS Raster Datasets
Help:
Has Raster Attribute Table: false
Edit Fields Info: null
Ownership Based AccessControl For Rasters: null
Child Resources:
Info
Histograms
Key Properties
Legend
MultiDimensionalInfo
rasterFunctionInfos
Supported Operations:
Export Image
Identify
Measure
Compute Histograms
Compute Statistics Histograms
Get Samples
Compute Class Statistics
Query Boundary