View In:
ArcGIS JavaScript
ArcGIS Online Map Viewer
ArcGIS Earth
ArcMap
View Footprint In:
ArcGIS Online Map Viewer
Service Description: Data was gained from a tiled Digital Elevation Model (DEM) that derives from a combination of the GEBCO_08 grid and more than 60 high-resolution data sets of bathymetric soundings (W. Puls, unpublished data). The original resolution increases from 50 m in nearshore zones to 400 m in the open North Sea. We resampled the DEM on the 1 by 1 nautical mile (nm) prediction grid before water depth was queried at each sediment sample position.
Name: NOAH_geoDB/Bathymetrie_geoDB
Description: Data was gained from a tiled Digital Elevation Model (DEM) that derives from a combination of the GEBCO_08 grid and more than 60 high-resolution data sets of bathymetric soundings (W. Puls, unpublished data). The original resolution increases from 50 m in nearshore zones to 400 m in the open North Sea. We resampled the DEM on the 1 by 1 nautical mile (nm) prediction grid before water depth was queried at each sediment sample position.
Single Fused Map Cache: false
Extent:
XMin: -5.000399999999949
YMin: 49.99757999999958
XMax: 12.954600000000728
YMax: 62.003580000000035
Spatial Reference: 4326
(4326)
Initial Extent:
XMin: -5.000399999999949
YMin: 49.99757999999958
XMax: 12.954600000000728
YMax: 62.003580000000035
Spatial Reference: 4326
(4326)
Full Extent:
XMin: -5.000399999999949
YMin: 49.99757999999958
XMax: 12.954600000000728
YMax: 62.003580000000035
Spatial Reference: 4326
(4326)
Pixel Size X: 0.00900000000000034
Pixel Size Y: 0.009000000000000341
Band Count: 1
Pixel Type: F32
RasterFunction Infos: {"rasterFunctionInfos": [
{
"name": "None",
"description": "A No-Op Function.",
"help": ""
},
{
"name": "Bathymetry_Classified",
"description": "A raster function template.",
"help": ""
}
]}
Mensuration Capabilities: Basic
Has Histograms: true
Has Colormap: false
Has Multi Dimensions : false
Rendering Rule:
Min Scale: 0
Max Scale: 0
Copyright Text: HZG Helmholtz-Zentrum Geesthacht
Service Data Type: esriImageServiceDataTypeGeneric
Min Values: -42
Max Values: 1545.68994140625
Mean Values: 127.8065394858108
Standard Deviation Values: 194.16190622636904
Object ID Field:
Fields:
None
Default Mosaic Method: Center
Allowed Mosaic Methods:
SortField:
SortValue: null
Mosaic Operator: First
Default Compression Quality: 75
Default Resampling Method: Nearest
Max Record Count: null
Max Image Height: 4100
Max Image Width: 15000
Max Download Image Count: null
Max Mosaic Image Count: null
Allow Raster Function: true
Allow Copy: null
Allow Analysis: null
Allow Compute TiePoints: false
Supports Statistics: false
Supports Advanced Queries: false
Use StandardizedQueries: true
Raster Type Infos:
Name: Raster Dataset
Description: Supports all ArcGIS Raster Datasets
Help:
Has Raster Attribute Table: false
Edit Fields Info: null
Ownership Based AccessControl For Rasters: null
Child Resources:
Info
Histograms
Key Properties
Legend
Raster Function Infos
Supported Operations:
Export Image
Identify
Measure
Compute Histograms
Compute Statistics Histograms
Get Samples
Compute Class Statistics
Query Boundary
Compute Pixel Location
Validate
Project