View In:
ArcGIS JavaScript
ArcGIS Online Map Viewer
ArcGIS Earth
ArcMap
View Footprint In:
ArcGIS Online Map Viewer
Service Description: Lead (Pb) distribution in the German Bight measured in surface sediment samples obtained during different NOAH expeditions and as part of BSH routine monitoring campaigns in2013 and 2014. The map was generated after data compilation of HZG and BSH data by interpolation using universal Co-Krigingwith auxiliary variable TOC (< 20µm fraction). Pb is a non essential element with relatively low acute toxicity, however the uptake of smallest amounts over extended time periods causes chronic intoxication (e.g. inhibition of important enzyms, damage of the nervous system etc.) due to its long half-life period in biological systems.
Name: NOAH_geoDB/HZG_Pb_Prediction
Description: Lead (Pb) distribution in the German Bight measured in surface sediment samples obtained during different NOAH expeditions and as part of BSH routine monitoring campaigns in2013 and 2014. The map was generated after data compilation of HZG and BSH data by interpolation using universal Co-Krigingwith auxiliary variable TOC (< 20µm fraction). Pb is a non essential element with relatively low acute toxicity, however the uptake of smallest amounts over extended time periods causes chronic intoxication (e.g. inhibition of important enzyms, damage of the nervous system etc.) due to its long half-life period in biological systems.
Single Fused Map Cache: false
Extent:
XMin: 4.119751721205141
YMin: 53.58481904159569
XMax: 8.409509504507678
YMax: 55.864518892150585
Spatial Reference: 4326
(4326)
Initial Extent:
XMin: 4.119751721205141
YMin: 53.58481904159569
XMax: 8.409509504507678
YMax: 55.864518892150585
Spatial Reference: 4326
(4326)
Full Extent:
XMin: 4.119751721205141
YMin: 53.58481904159569
XMax: 8.409509504507678
YMax: 55.864518892150585
Spatial Reference: 4326
(4326)
Pixel Size X: 0.02451290161887164
Pixel Size Y: 0.0245129016188698
Band Count: 1
Pixel Type: F32
RasterFunction Infos: {"rasterFunctionInfos": [
{
"name": "None",
"description": "A No-Op Function.",
"help": ""
},
{
"name": "HZG_Pb_Prediction_Classified",
"description": "A raster function template.",
"help": ""
}
]}
Mensuration Capabilities: Basic
Has Histograms: true
Has Colormap: false
Has Multi Dimensions : false
Rendering Rule:
Min Scale: 0
Max Scale: 0
Copyright Text: HZG Helmholtz-Zentrum Geesthacht
Service Data Type: esriImageServiceDataTypeGeneric
Min Values: 49.511314392089844
Max Values: 268.8331604003906
Mean Values: 85.17763449516987
Standard Deviation Values: 34.23921312450154
Object ID Field:
Fields:
None
Default Mosaic Method: Center
Allowed Mosaic Methods:
SortField:
SortValue: null
Mosaic Operator: First
Default Compression Quality: 75
Default Resampling Method: Nearest
Max Record Count: null
Max Image Height: 4100
Max Image Width: 15000
Max Download Image Count: null
Max Mosaic Image Count: null
Allow Raster Function: true
Allow Copy: null
Allow Analysis: null
Allow Compute TiePoints: false
Supports Statistics: false
Supports Advanced Queries: false
Use StandardizedQueries: true
Raster Type Infos:
Name: Raster Dataset
Description: Supports all ArcGIS Raster Datasets
Help:
Has Raster Attribute Table: false
Edit Fields Info: null
Ownership Based AccessControl For Rasters: null
Child Resources:
Info
Histograms
Key Properties
Legend
Raster Function Infos
Supported Operations:
Export Image
Identify
Measure
Compute Histograms
Compute Statistics Histograms
Get Samples
Compute Class Statistics
Query Boundary
Compute Pixel Location
Validate
Project