View In:
ArcGIS JavaScript
ArcGIS Online Map Viewer
ArcGIS Earth
ArcMap
View Footprint In:
ArcGIS Online Map Viewer
Service Description: Total Organic Carbon (TOC) distribution in surface sediments of the southern North Sea. The map was generated from more than 3000 data points compiled from various sources by interpolation using Co-Kriging with percentage mud as external variable. Mapping of TOC provides important background information for spatial analyses of organism assemblages, contaminant loadings and benthic remineralisation processes.
Name: NOAH_geoDB/TOC_geoDB_v2
Description: Total Organic Carbon (TOC) distribution in surface sediments of the southern North Sea. The map was generated from more than 3000 data points compiled from various sources by interpolation using Co-Kriging with percentage mud as external variable. Mapping of TOC provides important background information for spatial analyses of organism assemblages, contaminant loadings and benthic remineralisation processes.
Single Fused Map Cache: false
Extent:
XMin: -2.993400000409649
YMin: 50.88670000030484
XMax: 8.64659999959035
YMax: 56.70670000030484
Spatial Reference: 4326
(4326)
Initial Extent:
XMin: -2.993400000409649
YMin: 50.88670000030484
XMax: 8.64659999959035
YMax: 56.70670000030484
Spatial Reference: 4326
(4326)
Full Extent:
XMin: -2.993400000409649
YMin: 50.88670000030484
XMax: 8.64659999959035
YMax: 56.70670000030484
Spatial Reference: 4326
(4326)
Pixel Size X: 0.05999999999999999
Pixel Size Y: 0.060000000000000005
Band Count: 1
Pixel Type: F64
RasterFunction Infos: {"rasterFunctionInfos": [
{
"name": "TOC_Classified",
"description": "A raster function template.",
"help": ""
},
{
"name": "None",
"description": "",
"help": ""
}
]}
Mensuration Capabilities: Basic
Has Histograms: true
Has Colormap: false
Has Multi Dimensions : false
Rendering Rule:
Min Scale: 0
Max Scale: 0
Copyright Text: Helmholtz-Zentrum Geesthacht, HZG
Service Data Type: esriImageServiceDataTypeGeneric
Min Values: -0.0924
Max Values: 1.3819
Mean Values: 0.19376662315867962
Standard Deviation Values: 0.11805452073443
Object ID Field:
Fields:
None
Default Mosaic Method: Center
Allowed Mosaic Methods:
SortField:
SortValue: null
Mosaic Operator: First
Default Compression Quality: 75
Default Resampling Method: Nearest
Max Record Count: null
Max Image Height: 4100
Max Image Width: 15000
Max Download Image Count: null
Max Mosaic Image Count: null
Allow Raster Function: true
Allow Compute TiePoints: false
Supports Statistics: false
Supports Advanced Queries: false
Use StandardizedQueries: true
Raster Type Infos:
Name: Raster Dataset
Description: Supports all ArcGIS Raster Datasets
Help:
Has Raster Attribute Table: false
Edit Fields Info: null
Ownership Based AccessControl For Rasters: null
Child Resources:
Info
Histograms
Key Properties
Legend
MultiDimensionalInfo
rasterFunctionInfos
Supported Operations:
Export Image
Identify
Measure
Compute Histograms
Compute Statistics Histograms
Get Samples
Compute Class Statistics
Query Boundary